BEGIN:VCALENDAR
VERSION:2.0
PRODID:-//Alūksnes novada Kultūras centrs - ECPv6.15.20//NONSGML v1.0//EN
CALSCALE:GREGORIAN
METHOD:PUBLISH
X-WR-CALNAME:Alūksnes novada Kultūras centrs
X-ORIGINAL-URL:https://akc.lv
X-WR-CALDESC:Events for Alūksnes novada Kultūras centrs
REFRESH-INTERVAL;VALUE=DURATION:PT1H
X-Robots-Tag:noindex
X-PUBLISHED-TTL:PT1H
BEGIN:VTIMEZONE
TZID:Europe/Riga
BEGIN:DAYLIGHT
TZOFFSETFROM:+0200
TZOFFSETTO:+0300
TZNAME:EEST
DTSTART:20250330T010000
END:DAYLIGHT
BEGIN:STANDARD
TZOFFSETFROM:+0300
TZOFFSETTO:+0200
TZNAME:EET
DTSTART:20251026T010000
END:STANDARD
BEGIN:DAYLIGHT
TZOFFSETFROM:+0200
TZOFFSETTO:+0300
TZNAME:EEST
DTSTART:20260329T010000
END:DAYLIGHT
BEGIN:STANDARD
TZOFFSETFROM:+0300
TZOFFSETTO:+0200
TZNAME:EET
DTSTART:20261025T010000
END:STANDARD
BEGIN:DAYLIGHT
TZOFFSETFROM:+0200
TZOFFSETTO:+0300
TZNAME:EEST
DTSTART:20270328T010000
END:DAYLIGHT
BEGIN:STANDARD
TZOFFSETFROM:+0300
TZOFFSETTO:+0200
TZNAME:EET
DTSTART:20271031T010000
END:STANDARD
END:VTIMEZONE
BEGIN:VEVENT
DTSTART;TZID=Europe/Riga:20260426T150000
DTEND;TZID=Europe/Riga:20260426T160000
DTSTAMP:20260426T073444
CREATED:20260327T141959Z
LAST-MODIFIED:20260327T142116Z
UID:10000865-1777215600-1777219200@akc.lv
SUMMARY:Nodarbība “Dot un Ņemt. Līdzsvara atjaunošana” (Jaunannas TN)
DESCRIPTION:Jaunannas tautas namā nodarbība “Dot un Ņemt. Līdzsvara atjaunošana” ar sistēmisko izkārtojumu vadītāju Laimu Pastori. Turpinājumā praktiska nodarbība par ziedojumiem “Tava enerģija došanā un saņemšanā”. \nPieteikšanās un informācija pa tālruni 26685500 (Laima) vai 29495371 (Elita).
URL:https://akc.lv/pasakums/nodarbiba-dot-un-nemt-lidzsvara-atjaunosana-jaunannas-tn/
CATEGORIES:Alūksnes novadā
ATTACH;FMTTYPE=image/png:https://akc.lv/wp-content/uploads/2026/03/26.04.2026_Jaunanna_Laima.png
END:VEVENT
END:VCALENDAR